BEGIN:VCALENDAR
VERSION:2.0
PRODID:-//Valparaiso Creative Council - ECPv6.15.20//NONSGML v1.0//EN
CALSCALE:GREGORIAN
METHOD:PUBLISH
X-ORIGINAL-URL:https://valpocreates.org
X-WR-CALDESC:Events for Valparaiso Creative Council
REFRESH-INTERVAL;VALUE=DURATION:PT1H
X-Robots-Tag:noindex
X-PUBLISHED-TTL:PT1H
BEGIN:VTIMEZONE
TZID:America/Chicago
BEGIN:DAYLIGHT
TZOFFSETFROM:-0600
TZOFFSETTO:-0500
TZNAME:CDT
DTSTART:20250309T080000
END:DAYLIGHT
BEGIN:STANDARD
TZOFFSETFROM:-0500
TZOFFSETTO:-0600
TZNAME:CST
DTSTART:20251102T070000
END:STANDARD
BEGIN:DAYLIGHT
TZOFFSETFROM:-0600
TZOFFSETTO:-0500
TZNAME:CDT
DTSTART:20260308T080000
END:DAYLIGHT
BEGIN:STANDARD
TZOFFSETFROM:-0500
TZOFFSETTO:-0600
TZNAME:CST
DTSTART:20261101T070000
END:STANDARD
BEGIN:DAYLIGHT
TZOFFSETFROM:-0600
TZOFFSETTO:-0500
TZNAME:CDT
DTSTART:20270314T080000
END:DAYLIGHT
BEGIN:STANDARD
TZOFFSETFROM:-0500
TZOFFSETTO:-0600
TZNAME:CST
DTSTART:20271107T070000
END:STANDARD
END:VTIMEZONE
BEGIN:VEVENT
DTSTART;TZID=America/Chicago:20260422T160000
DTEND;TZID=America/Chicago:20260422T180000
DTSTAMP:20260419T095443
CREATED:20260227T194731Z
LAST-MODIFIED:20260416T161950Z
UID:10000044-1776873600-1776880800@valpocreates.org
SUMMARY:Living in Color: Learning Color Theory in a Practical Way
DESCRIPTION:Living in Color: Learning Color Theory in a practical way\nHave you always wanted to understand the Color Wheel\, how it relates to the colors that we see in our everyday lives\, and how to recreate them? Well this crash course is for you. Learn how to color your world. \nSupplies will be provided. \nSkill Level: Any skill level \nCost: $45 \nTeacher: Eurnice Harris – Scarver\, Artist\n@eurniceh\nhttps://www.instagram.com/eurniceh \nHow to register:\nPlease email which class you are taking to Eurnice at goodvictoryartstudio@gmail.com. Once full payment is received\, Eurnice will a send a confirmation email. \nRegistration deadline: April 15\, 2026 \nAny questions? Contact Eunice at goodvictoryartstudio@gmail.com
URL:https://valpocreates.org/event/living-in-color-learning-color-theory-in-a-practical-way/
LOCATION:Valpo Creates Center\, 256 Indiana Ave\, Valparaiso\, IN\, United States
CATEGORIES:Classes and Workshops
ATTACH;FMTTYPE=image/png:https://valpocreates.org/wp-content/uploads/2026/02/Color-class-Eurnice.png
ORGANIZER;CN="Eurnice Harris - Scarver":MAILTO:goodvictoryartstudio@gmail.com
GEO:41.466896;-87.065715
X-APPLE-STRUCTURED-LOCATION;VALUE=URI;X-ADDRESS=Valpo Creates Center 256 Indiana Ave Valparaiso IN United States;X-APPLE-RADIUS=500;X-TITLE=256 Indiana Ave:geo:-87.065715,41.466896
END:VEVENT
BEGIN:VEVENT
DTSTART;TZID=America/Chicago:20260422T170000
DTEND;TZID=America/Chicago:20260422T190000
DTSTAMP:20260419T095443
CREATED:20260202T202303Z
LAST-MODIFIED:20260402T184151Z
UID:10000013-1776877200-1776884400@valpocreates.org
SUMMARY:Art + Innovation - PNW artist reception
DESCRIPTION:Join us at this free artist reception\, an incredible event\, where students + staff can learn from the featured artists showcased each quarter.\nArtist Reception:\nWednesday\, April 22\, 2026\n5:00 – 7:00p  \nPurdue University Northwest Hammond Campus\nClassroom Office Building\n2200 169th Street Hammond\, IN\n \nThis reception will take place at PNW Hammond Campus in the Mane zone. \n  \nFeaturing: \nEd Spelde\nespelde@comcast.net \nJeff Baumgartner\n@baumgartnerjeffrey \nThomas Cera\ntcera@gmail.com \n  \nThis exclusive event will introduce local artists to students\, faculty + PNW stakeholders. Hear their stories and how they were led to explore ink\, lens + illustration. \nAttendees can enter to win our Art + Innovation giveaway! \nExhibit on display 4.11.26 – 7.10.26 \n 
URL:https://valpocreates.org/event/art-innovation-2026-spring-pnw/
LOCATION:Purdue University Northwest – Hammond Campus\, 2200 E 169th Street\, Hammond\, IN\, 46323\, United States
CATEGORIES:Art + Innovation,Signature Events
ATTACH;FMTTYPE=image/png:https://valpocreates.org/wp-content/uploads/2026/03/AI-2026-PNW-Q2.png
ORGANIZER;CN="Valparaiso Creative Council":MAILTO:info@valpocreates.org
END:VEVENT
END:VCALENDAR